BEGIN:VCALENDAR
VERSION:2.0
PRODID:-//Mugendo Tenerife - ECPv6.15.16//NONSGML v1.0//EN
CALSCALE:GREGORIAN
METHOD:PUBLISH
X-ORIGINAL-URL:https://artesmarcialesmugendo.es
X-WR-CALDESC:Eventos para Mugendo Tenerife
REFRESH-INTERVAL;VALUE=DURATION:PT1H
X-Robots-Tag:noindex
X-PUBLISHED-TTL:PT1H
BEGIN:VTIMEZONE
TZID:Atlantic/Canary
BEGIN:DAYLIGHT
TZOFFSETFROM:+0000
TZOFFSETTO:+0100
TZNAME:WEST
DTSTART:20190331T010000
END:DAYLIGHT
BEGIN:STANDARD
TZOFFSETFROM:+0100
TZOFFSETTO:+0000
TZNAME:WET
DTSTART:20191027T010000
END:STANDARD
BEGIN:DAYLIGHT
TZOFFSETFROM:+0000
TZOFFSETTO:+0100
TZNAME:WEST
DTSTART:20200329T010000
END:DAYLIGHT
BEGIN:STANDARD
TZOFFSETFROM:+0100
TZOFFSETTO:+0000
TZNAME:WET
DTSTART:20201025T010000
END:STANDARD
BEGIN:DAYLIGHT
TZOFFSETFROM:+0000
TZOFFSETTO:+0100
TZNAME:WEST
DTSTART:20210328T010000
END:DAYLIGHT
BEGIN:STANDARD
TZOFFSETFROM:+0100
TZOFFSETTO:+0000
TZNAME:WET
DTSTART:20211031T010000
END:STANDARD
END:VTIMEZONE
BEGIN:VTIMEZONE
TZID:Europe/Madrid
BEGIN:DAYLIGHT
TZOFFSETFROM:+0100
TZOFFSETTO:+0200
TZNAME:CEST
DTSTART:20180325T010000
END:DAYLIGHT
BEGIN:STANDARD
TZOFFSETFROM:+0200
TZOFFSETTO:+0100
TZNAME:CET
DTSTART:20181028T010000
END:STANDARD
BEGIN:DAYLIGHT
TZOFFSETFROM:+0100
TZOFFSETTO:+0200
TZNAME:CEST
DTSTART:20190331T010000
END:DAYLIGHT
BEGIN:STANDARD
TZOFFSETFROM:+0200
TZOFFSETTO:+0100
TZNAME:CET
DTSTART:20191027T010000
END:STANDARD
BEGIN:DAYLIGHT
TZOFFSETFROM:+0100
TZOFFSETTO:+0200
TZNAME:CEST
DTSTART:20200329T010000
END:DAYLIGHT
BEGIN:STANDARD
TZOFFSETFROM:+0200
TZOFFSETTO:+0100
TZNAME:CET
DTSTART:20201025T010000
END:STANDARD
BEGIN:DAYLIGHT
TZOFFSETFROM:+0100
TZOFFSETTO:+0200
TZNAME:CEST
DTSTART:20210328T010000
END:DAYLIGHT
BEGIN:STANDARD
TZOFFSETFROM:+0200
TZOFFSETTO:+0100
TZNAME:CET
DTSTART:20211031T010000
END:STANDARD
END:VTIMEZONE
BEGIN:VTIMEZONE
TZID:Europe/Lisbon
BEGIN:DAYLIGHT
TZOFFSETFROM:+0000
TZOFFSETTO:+0100
TZNAME:WEST
DTSTART:20180325T010000
END:DAYLIGHT
BEGIN:STANDARD
TZOFFSETFROM:+0100
TZOFFSETTO:+0000
TZNAME:WET
DTSTART:20181028T010000
END:STANDARD
BEGIN:DAYLIGHT
TZOFFSETFROM:+0000
TZOFFSETTO:+0100
TZNAME:WEST
DTSTART:20190331T010000
END:DAYLIGHT
BEGIN:STANDARD
TZOFFSETFROM:+0100
TZOFFSETTO:+0000
TZNAME:WET
DTSTART:20191027T010000
END:STANDARD
BEGIN:DAYLIGHT
TZOFFSETFROM:+0000
TZOFFSETTO:+0100
TZNAME:WEST
DTSTART:20200329T010000
END:DAYLIGHT
BEGIN:STANDARD
TZOFFSETFROM:+0100
TZOFFSETTO:+0000
TZNAME:WET
DTSTART:20201025T010000
END:STANDARD
END:VTIMEZONE
BEGIN:VEVENT
DTSTART;TZID=Atlantic/Canary:20200321T080000
DTEND;TZID=Atlantic/Canary:20200321T180000
DTSTAMP:20260420T065456
CREATED:20200113T155920Z
LAST-MODIFIED:20200113T160625Z
UID:14680-1584777600-1584813600@artesmarcialesmugendo.es
SUMMARY:Open WAMAI Canarias 2020
DESCRIPTION:
URL:https://artesmarcialesmugendo.es/eventos/open-wamai-canarias-2020/
LOCATION:Pabellón Pablos Abril\, C/ Transversal Luis Vives\, 7\, Taco\, SC de tenerife\, Santa Cruz de Tenerife\, España
END:VEVENT
BEGIN:VEVENT
DTSTART;TZID=Atlantic/Canary:20200208T110000
DTEND;TZID=Atlantic/Canary:20200208T140000
DTSTAMP:20260420T065456
CREATED:20200113T162640Z
LAST-MODIFIED:20200113T164704Z
UID:14692-1581159600-1581170400@artesmarcialesmugendo.es
SUMMARY:Curso Defensa Personal Femenina
DESCRIPTION:
URL:https://artesmarcialesmugendo.es/eventos/curso-defensa-personal-femenina/
LOCATION:Mugendo San Clemente\, Calle San Clemente 25\, Santa Cruz de Tenerife\, Santa Cruz de Tenerife\, España
ORGANIZER;CN="Club Mugendo":MAILTO:tenerife@mugendo.es
END:VEVENT
BEGIN:VEVENT
DTSTART;TZID=Atlantic/Canary:20200131T170000
DTEND;TZID=Atlantic/Canary:20200131T210000
DTSTAMP:20260420T065456
CREATED:20200113T155153Z
LAST-MODIFIED:20200113T160701Z
UID:14673-1580490000-1580504400@artesmarcialesmugendo.es
SUMMARY:Interclub Solidario 2020
DESCRIPTION:
URL:https://artesmarcialesmugendo.es/eventos/interclub-solidario-2020/
LOCATION:IES Alcalde Bernabé Rodríguez\, Av. de San Sebastián\, 7\, SC de Tenerife\, SC de Tenerife
ORGANIZER;CN="Club Mugendo":MAILTO:tenerife@mugendo.es
END:VEVENT
BEGIN:VEVENT
DTSTART;TZID=Atlantic/Canary:20200122T170000
DTEND;TZID=Atlantic/Canary:20200123T213000
DTSTAMP:20260420T065456
CREATED:20200113T160453Z
LAST-MODIFIED:20200113T160811Z
UID:14686-1579712400-1579815000@artesmarcialesmugendo.es
SUMMARY:Exámenes de Grado
DESCRIPTION:
URL:https://artesmarcialesmugendo.es/eventos/examenes-de-grado-3/
LOCATION:Mugendo
ORGANIZER;CN="Club Mugendo":MAILTO:tenerife@mugendo.es
END:VEVENT
BEGIN:VEVENT
DTSTART;VALUE=DATE:20200106
DTEND;VALUE=DATE:20200107
DTSTAMP:20260420T065456
CREATED:20191119T122821Z
LAST-MODIFIED:20191119T122821Z
UID:14050-1578268800-1578355199@artesmarcialesmugendo.es
SUMMARY:CLUB CERRADO
DESCRIPTION:Club cerrado por fiesta nacional.
URL:https://artesmarcialesmugendo.es/eventos/club-cerrado-4/
LOCATION:Mugendo
END:VEVENT
BEGIN:VEVENT
DTSTART;VALUE=DATE:20191231
DTEND;VALUE=DATE:20200102
DTSTAMP:20260420T065456
CREATED:20191119T122633Z
LAST-MODIFIED:20191119T122633Z
UID:14047-1577750400-1577923199@artesmarcialesmugendo.es
SUMMARY:CLUB CERRADO
DESCRIPTION:Club cerrado por festivo. ¡Feliz año nuevo!
URL:https://artesmarcialesmugendo.es/eventos/club-cerrado-3/
LOCATION:Mugendo
END:VEVENT
BEGIN:VEVENT
DTSTART;TZID=Europe/Madrid:20191224T080000
DTEND;TZID=Europe/Madrid:20191225T170000
DTSTAMP:20260420T065456
CREATED:20191104T193013Z
LAST-MODIFIED:20191104T193036Z
UID:14023-1577174400-1577293200@artesmarcialesmugendo.es
SUMMARY:CLUB CERRADO
DESCRIPTION:Fiesta Nacional
URL:https://artesmarcialesmugendo.es/eventos/club-cerrado-2/
LOCATION:Santa Cruz de Tenerife
END:VEVENT
BEGIN:VEVENT
DTSTART;TZID=Europe/Madrid:20191220T210000
DTEND;TZID=Europe/Madrid:20191220T233000
DTSTAMP:20260420T065456
CREATED:20191104T163209Z
LAST-MODIFIED:20191104T163209Z
UID:13999-1576875600-1576884600@artesmarcialesmugendo.es
SUMMARY:Cena de Navidad
DESCRIPTION:Club Mugendo Cena de Navidad\, más info en tu Club Mugendo Tenerife
URL:https://artesmarcialesmugendo.es/eventos/cena-de-navidad/
LOCATION:Restaurante La Mafia\, Calle José Murphy\, 1\, Santa Cruz de Tenerife\, 38002\, España
ORGANIZER;CN="Club Mugendo":MAILTO:tenerife@mugendo.es
END:VEVENT
BEGIN:VEVENT
DTSTART;TZID=Europe/Madrid:20191220T173000
DTEND;TZID=Europe/Madrid:20191220T183000
DTSTAMP:20260420T065456
CREATED:20191104T192939Z
LAST-MODIFIED:20191104T192939Z
UID:14020-1576863000-1576866600@artesmarcialesmugendo.es
SUMMARY:Fiesta de Navidad
DESCRIPTION:Fiesta de Navidad con Papa Noël Cinturón Negro para todos los niños de Mugendo Tenerife. La fiesta se realizará en Club Mugendo Santa Cruz (San Clemente 25)\, y en Club Mugendo La Laguna
URL:https://artesmarcialesmugendo.es/eventos/fiesta-de-navidad/
LOCATION:Mugendo
ORGANIZER;CN="Club Mugendo":MAILTO:tenerife@mugendo.es
END:VEVENT
BEGIN:VEVENT
DTSTART;VALUE=DATE:20191206
DTEND;VALUE=DATE:20191207
DTSTAMP:20260420T065456
CREATED:20191104T142723Z
LAST-MODIFIED:20191104T142723Z
UID:13997-1575590400-1575676799@artesmarcialesmugendo.es
SUMMARY:CLUB CERRADO
DESCRIPTION:CLUB CERRADO por fiesta nacional
URL:https://artesmarcialesmugendo.es/eventos/club-cerrado/
LOCATION:Mugendo
ORGANIZER;CN="Club Mugendo":MAILTO:tenerife@mugendo.es
END:VEVENT
BEGIN:VEVENT
DTSTART;TZID=Europe/Madrid:20191130T110000
DTEND;TZID=Europe/Madrid:20191130T130000
DTSTAMP:20260420T065456
CREATED:20191104T142353Z
LAST-MODIFIED:20191104T142509Z
UID:13992-1575111600-1575118800@artesmarcialesmugendo.es
SUMMARY:Entrega de Cinturones y DANES
DESCRIPTION:Entrega de Cinturones y DANES con Sensei Javier Sáenz
URL:https://artesmarcialesmugendo.es/eventos/entrega-de-cinturones-y-danes/
LOCATION:Mugendo La Laguna\, Calle Nuñez de la Peña 53\, San Cristobal de La Laguna\, Santa Cruz de Tenerife\, 38203\, España
ORGANIZER;CN="Club Mugendo":MAILTO:tenerife@mugendo.es
END:VEVENT
BEGIN:VEVENT
DTSTART;TZID=Europe/Madrid:20191129T170000
DTEND;TZID=Europe/Madrid:20191129T213000
DTSTAMP:20260420T065456
CREATED:20191104T141749Z
LAST-MODIFIED:20191104T141749Z
UID:13986-1575046800-1575063000@artesmarcialesmugendo.es
SUMMARY:Seminarios Sensei Javier Sáenz
DESCRIPTION:Seminarios Sensei Javier Sáenz
URL:https://artesmarcialesmugendo.es/eventos/seminarios-sensei-javier-saenz/
LOCATION:IES Alcalde Bernabé Rodríguez\, Av. de San Sebastián\, 7\, SC de Tenerife\, SC de Tenerife
ORGANIZER;CN="Club Mugendo":MAILTO:tenerife@mugendo.es
END:VEVENT
BEGIN:VEVENT
DTSTART;VALUE=DATE:20191120
DTEND;VALUE=DATE:20191122
DTSTAMP:20260420T065456
CREATED:20191007T135531Z
LAST-MODIFIED:20191008T112845Z
UID:13840-1574208000-1574380799@artesmarcialesmugendo.es
SUMMARY:Examenes de Grado Noviembre
DESCRIPTION:Examenes de grado Club Mugendo
URL:https://artesmarcialesmugendo.es/eventos/examenes-de-grado-2/
LOCATION:Mugendo
END:VEVENT
BEGIN:VEVENT
DTSTART;TZID=Europe/Madrid:20191116T110000
DTEND;TZID=Europe/Madrid:20191116T130000
DTSTAMP:20260420T065456
CREATED:20191104T134813Z
LAST-MODIFIED:20191104T134928Z
UID:13977-1573902000-1573909200@artesmarcialesmugendo.es
SUMMARY:Examen de Cinturón Negro y DAN
DESCRIPTION:Mugendo Examen de Cinturón Negro y Primer y Segundo DAN
URL:https://artesmarcialesmugendo.es/eventos/examen-de-cinturon-negro-y-dan/
LOCATION:Mugendo La Laguna\, Calle Nuñez de la Peña 53\, San Cristobal de La Laguna\, Santa Cruz de Tenerife\, 38203\, España
ORGANIZER;CN="Club Mugendo":MAILTO:tenerife@mugendo.es
END:VEVENT
BEGIN:VEVENT
DTSTART;TZID=Europe/Madrid:20191109T200000
DTEND;TZID=Europe/Madrid:20191109T230000
DTSTAMP:20260420T065456
CREATED:20191104T133126Z
LAST-MODIFIED:20191104T135203Z
UID:13970-1573329600-1573340400@artesmarcialesmugendo.es
SUMMARY:Fight Night Barcelona
DESCRIPTION:Campeonato de Light Contact y Full Contact en Barcelona
URL:https://artesmarcialesmugendo.es/eventos/fight-night-barcelona/
LOCATION:Barcelona\, Pabellón Safa de Gava\, Gava\, Barcelona
END:VEVENT
BEGIN:VEVENT
DTSTART;TZID=Europe/Madrid:20191104T080000
DTEND;TZID=Europe/Madrid:20191104T170000
DTSTAMP:20260420T065456
CREATED:20191104T133427Z
LAST-MODIFIED:20191104T133511Z
UID:13975-1572854400-1572886800@artesmarcialesmugendo.es
SUMMARY:
DESCRIPTION:
URL:https://artesmarcialesmugendo.es/eventos/13975/
LOCATION:Santa Cruz de Tenerife
END:VEVENT
BEGIN:VEVENT
DTSTART;TZID=Europe/Madrid:20191031T170000
DTEND;TZID=Europe/Madrid:20191031T183000
DTSTAMP:20260420T065456
CREATED:20191004T184906Z
LAST-MODIFIED:20191007T134513Z
UID:13835-1572541200-1572546600@artesmarcialesmugendo.es
SUMMARY:Halloween
DESCRIPTION:Celebra Halloween en tu clase Miércoles 30 y Jueves 31 de Octubre. Ven a tu clase disfrazado y invita un/a amigo/a. ¡Juegos\, premios\, concurso de disfraz\, más información en tu club Mugendo!
URL:https://artesmarcialesmugendo.es/eventos/halloween/
LOCATION:Mugendo
END:VEVENT
BEGIN:VEVENT
DTSTART;TZID=Europe/Lisbon:20191019T090000
DTEND;TZID=Europe/Lisbon:20191019T133000
DTSTAMP:20260420T065456
CREATED:20191004T183013Z
LAST-MODIFIED:20191004T183013Z
UID:13830-1571475600-1571491800@artesmarcialesmugendo.es
SUMMARY:Aguere Warriors 2019
DESCRIPTION:Artes Marciales Canarias y Maestros Canarios de Artes Marciales. rsesClases magistrales por los mejores maestros y campeones más destacados. Abierta para todas las edades.
URL:https://artesmarcialesmugendo.es/eventos/aguere-warriors-2019/
LOCATION:Pabellón Rios Tejera\, La Laguna\, Calle Leopoldo de la Rosa Olivera\, 8\, San Cristobal de La Laguna\, Santa Cruz de Tenerife\, 38206\, España
ORGANIZER;CN="Federaci%C3%B3n Garrote Canario":MAILTO:garrotecanario.federacion@gmail.com
END:VEVENT
BEGIN:VEVENT
DTSTART;TZID=Europe/Madrid:20190925T140000
DTEND;TZID=Europe/Madrid:20190926T220000
DTSTAMP:20260420T065456
CREATED:20190830T132408Z
LAST-MODIFIED:20190923T082139Z
UID:13689-1569420000-1569535200@artesmarcialesmugendo.es
SUMMARY:Examenes de Grado
DESCRIPTION:
URL:https://artesmarcialesmugendo.es/eventos/examenes-de-grado/
LOCATION:Mugendo
END:VEVENT
BEGIN:VEVENT
DTSTART;TZID=Europe/Lisbon:20190920T210000
DTEND;TZID=Europe/Lisbon:20190921T090000
DTSTAMP:20260420T065456
CREATED:20190830T134122Z
LAST-MODIFIED:20190830T134247Z
UID:13692-1569013200-1569056400@artesmarcialesmugendo.es
SUMMARY:¡Fiesta Pijama!
DESCRIPTION:
URL:https://artesmarcialesmugendo.es/eventos/fiesta-pijama/
LOCATION:Mugendo La Laguna\, Calle Nuñez de la Peña 53\, San Cristobal de La Laguna\, Santa Cruz de Tenerife\, 38203\, España
END:VEVENT
BEGIN:VEVENT
DTSTART;VALUE=DATE:20190724
DTEND;VALUE=DATE:20190726
DTSTAMP:20260420T065456
CREATED:20190628T151937Z
LAST-MODIFIED:20190628T151937Z
UID:12266-1563926400-1564099199@artesmarcialesmugendo.es
SUMMARY:Examenes de Grado Méndez Nuñez
DESCRIPTION:
URL:https://artesmarcialesmugendo.es/eventos/examenes-de-grado-mendez-nunez/
LOCATION:Santa Cruz de Tenerife
END:VEVENT
BEGIN:VEVENT
DTSTART;TZID=Europe/Madrid:20190717T140000
DTEND;TZID=Europe/Madrid:20190718T220000
DTSTAMP:20260420T065456
CREATED:20190628T151804Z
LAST-MODIFIED:20190628T151818Z
UID:12263-1563372000-1563487200@artesmarcialesmugendo.es
SUMMARY:Examenes de Grado San Clemente y La Laguna
DESCRIPTION:
URL:https://artesmarcialesmugendo.es/eventos/examenes-de-grado-san-clemente-y-la-laguna/
LOCATION:Santa Cruz de Tenerife
END:VEVENT
BEGIN:VEVENT
DTSTART;TZID=Europe/Madrid:20190713T110000
DTEND;TZID=Europe/Madrid:20190713T140000
DTSTAMP:20260420T065456
CREATED:20190628T152121Z
LAST-MODIFIED:20190628T152121Z
UID:12269-1563015600-1563026400@artesmarcialesmugendo.es
SUMMARY:Curso de Defensa Personal Femenina
DESCRIPTION:
URL:https://artesmarcialesmugendo.es/eventos/curso-de-defensa-personal-femenina/
LOCATION:Mugendo San Clemente\, Calle San Clemente 25\, Santa Cruz de Tenerife\, Santa Cruz de Tenerife\, España
END:VEVENT
BEGIN:VEVENT
DTSTART;TZID=Europe/Madrid:20190624T080000
DTEND;TZID=Europe/Madrid:20190624T160000
DTSTAMP:20260420T065456
CREATED:20190528T173940Z
LAST-MODIFIED:20190528T174657Z
UID:11701-1561363200-1561392000@artesmarcialesmugendo.es
SUMMARY:Inicio Campamento de Verano Mugendo
DESCRIPTION:
URL:https://artesmarcialesmugendo.es/eventos/inicio-campamento-de-verano-mugendo/
LOCATION:Mugendo San Clemente\, Calle San Clemente 25\, Santa Cruz de Tenerife\, Santa Cruz de Tenerife\, España
ATTACH;FMTTYPE=image/jpeg:https://artesmarcialesmugendo.es/wp-content/uploads/2019/03/shutterstock_76255105.jpg
END:VEVENT
BEGIN:VEVENT
DTSTART;TZID=Europe/Madrid:20190614T210000
DTEND;TZID=Europe/Madrid:20190615T090000
DTSTAMP:20260420T065456
CREATED:20190528T173042Z
LAST-MODIFIED:20190528T174304Z
UID:11696-1560546000-1560589200@artesmarcialesmugendo.es
SUMMARY:Noche Canguro
DESCRIPTION:
URL:https://artesmarcialesmugendo.es/eventos/noche-canguro/
LOCATION:Mugendo San Clemente\, Calle San Clemente 25\, Santa Cruz de Tenerife\, Santa Cruz de Tenerife\, España
ATTACH;FMTTYPE=image/jpeg:https://artesmarcialesmugendo.es/wp-content/uploads/2019/05/noche-canguro-2019-e1559064775939.jpg
END:VEVENT
END:VCALENDAR